BEGIN:VCALENDAR
VERSION:2.0
PRODID:-//Danske Musik- og Kulturskoler - ECPv6.15.20//NONSGML v1.0//EN
CALSCALE:GREGORIAN
METHOD:PUBLISH
X-ORIGINAL-URL:https://dmkskoler.dk
X-WR-CALDESC:Begivenheder for Danske Musik- og Kulturskoler
REFRESH-INTERVAL;VALUE=DURATION:PT1H
X-Robots-Tag:noindex
X-PUBLISHED-TTL:PT1H
BEGIN:VTIMEZONE
TZID:Europe/Copenhagen
BEGIN:DAYLIGHT
TZOFFSETFROM:+0100
TZOFFSETTO:+0200
TZNAME:CEST
DTSTART:20240331T010000
END:DAYLIGHT
BEGIN:STANDARD
TZOFFSETFROM:+0200
TZOFFSETTO:+0100
TZNAME:CET
DTSTART:20241027T010000
END:STANDARD
BEGIN:DAYLIGHT
TZOFFSETFROM:+0100
TZOFFSETTO:+0200
TZNAME:CEST
DTSTART:20250330T010000
END:DAYLIGHT
BEGIN:STANDARD
TZOFFSETFROM:+0200
TZOFFSETTO:+0100
TZNAME:CET
DTSTART:20251026T010000
END:STANDARD
BEGIN:DAYLIGHT
TZOFFSETFROM:+0100
TZOFFSETTO:+0200
TZNAME:CEST
DTSTART:20260329T010000
END:DAYLIGHT
BEGIN:STANDARD
TZOFFSETFROM:+0200
TZOFFSETTO:+0100
TZNAME:CET
DTSTART:20261025T010000
END:STANDARD
BEGIN:DAYLIGHT
TZOFFSETFROM:+0100
TZOFFSETTO:+0200
TZNAME:CEST
DTSTART:20270328T010000
END:DAYLIGHT
BEGIN:STANDARD
TZOFFSETFROM:+0200
TZOFFSETTO:+0100
TZNAME:CET
DTSTART:20271031T010000
END:STANDARD
END:VTIMEZONE
BEGIN:VEVENT
DTSTART;TZID=Europe/Copenhagen:20260408T103000
DTEND;TZID=Europe/Copenhagen:20260408T153000
DTSTAMP:20260419T141310
CREATED:20260202T122156Z
LAST-MODIFIED:20260202T122156Z
UID:10000062-1775644200-1775662200@dmkskoler.dk
SUMMARY:Vidensdelingsdag for Rabalder‑kommunerne
DESCRIPTION:DMK inviterer til fælles vidensdelingsdag\, hvor vi samler op på Rabalder-skolernes erfaringer\, perspektiver og indsigter og ser frem mod den næste fase af programmet. \nTILMELDING \nTILMELDINGSFRIST: Mandag 2. marts 2026
URL:https://dmkskoler.dk/events/vidensdelingsdag-for-rabalder-kommunerne/
LOCATION:Nordea Fonden: Heering House\, Overgaden Neden Vandet 1\, København\, 1414\, Danmark
CATEGORIES:Rabalder
ATTACH;FMTTYPE=image/jpeg:https://dmkskoler.dk/wp-content/uploads/2025/01/dmk_rabalder_opstart_2025_program_c_top-scaled.jpg
END:VEVENT
BEGIN:VEVENT
DTSTART;TZID=Europe/Copenhagen:20250424T100000
DTEND;TZID=Europe/Copenhagen:20250424T150000
DTSTAMP:20260419T141310
CREATED:20250320T114606Z
LAST-MODIFIED:20250320T114809Z
UID:10000051-1745488800-1745506800@dmkskoler.dk
SUMMARY:Sangglad-konference i København
DESCRIPTION:Siden 2016 har Sangens Hus med støtte fra Nordea Fonden udbredt sang i danske daginstitutioner. Gennem projekterne Sangglad\, Sangglad Mini og Sangglad Familie har flere end 50.000 børn og knap 5.000 pædagogiske voksne fået mere sang i hverdagen\, og mere end 130 børnehaver\, 250 vuggestuegrupper og 300 dagplejere er blevet Sangglad-certificeret. \nTorsdag 24. april kl. 10-15 afholder de en konference i Nordea Fondens lokaler på Christianshavn\, hvor der deles ud af alle erfaringerne fra Sangglad-projekterne. \nSammen med professor Lene Tanggaard og en række andre eksperter på området skal deltagerne dykke ned i sangens pædagogiske potentiale og evne til at skabe glæde\, energi og fællesskab blandt børn. På konferencen ses der også på sangens positive effekter for indlæring\, koncentrationsevne og sociale kompetencer hos børn samt de måder\, hvorpå sangen kan styrke det pædagogiske arbejde og fællesskabet blandt de voksne . Konferencen afsluttes med en paneldebat modereret af Elsebeth Gerner Nielsen\, hvor det diskuteres\, hvordan endnu flere børn og voksne kan få glæde af de mange gevinster ved at synge sammen. \nDet er gratis at deltage. \nDu kan tilmelde dig\, samt se programmet for konferencen\, via dette link: https://sangenshus.nemtilmeld.dk/16/ \nARRANGØR: Projektleder Lasse Skovgaard og strategisk direktør Elsebeth Gerner Nielsen
URL:https://dmkskoler.dk/events/sangglad-konference-i-koebenhavn/
LOCATION:Nordea Fonden: Heering House\, Overgaden Neden Vandet 1\, København\, 1414\, Danmark
CATEGORIES:Eksterne arrangører
ATTACH;FMTTYPE=image/jpeg:https://dmkskoler.dk/wp-content/uploads/2025/03/160331_Sangens_Hus_0009-1.jpg
END:VEVENT
BEGIN:VEVENT
DTSTART;TZID=Europe/Copenhagen:20250409T110000
DTEND;TZID=Europe/Copenhagen:20250409T160000
DTSTAMP:20260419T141310
CREATED:20241204T091622Z
LAST-MODIFIED:20241204T091622Z
UID:10000046-1744196400-1744214400@dmkskoler.dk
SUMMARY:Rabalder: Projektopstartsmøde
DESCRIPTION:9. april 2025\, kl. 11 – 16:  Projektopstartsmøde for deltagere i Rabalder (Nordea Fonden: Heering House\, Overgaden Neden Vandet 11\, 1414 København)
URL:https://dmkskoler.dk/events/rabalder-projektopstartsmoede/
LOCATION:Nordea Fonden: Heering House\, Overgaden Neden Vandet 1\, København\, 1414\, Danmark
CATEGORIES:Rabalder
ATTACH;FMTTYPE=image/jpeg:https://dmkskoler.dk/wp-content/uploads/2024/12/rabalder_foto1.jpg
END:VEVENT
END:VCALENDAR