BEGIN:VCALENDAR
VERSION:2.0
PRODID:-//Danske Musik- og Kulturskoler - ECPv6.15.20//NONSGML v1.0//EN
CALSCALE:GREGORIAN
METHOD:PUBLISH
X-ORIGINAL-URL:https://dmkskoler.dk
X-WR-CALDESC:Begivenheder for Danske Musik- og Kulturskoler
REFRESH-INTERVAL;VALUE=DURATION:PT1H
X-Robots-Tag:noindex
X-PUBLISHED-TTL:PT1H
BEGIN:VTIMEZONE
TZID:Europe/Copenhagen
BEGIN:DAYLIGHT
TZOFFSETFROM:+0100
TZOFFSETTO:+0200
TZNAME:CEST
DTSTART:20220327T010000
END:DAYLIGHT
BEGIN:STANDARD
TZOFFSETFROM:+0200
TZOFFSETTO:+0100
TZNAME:CET
DTSTART:20221030T010000
END:STANDARD
BEGIN:DAYLIGHT
TZOFFSETFROM:+0100
TZOFFSETTO:+0200
TZNAME:CEST
DTSTART:20230326T010000
END:DAYLIGHT
BEGIN:STANDARD
TZOFFSETFROM:+0200
TZOFFSETTO:+0100
TZNAME:CET
DTSTART:20231029T010000
END:STANDARD
BEGIN:DAYLIGHT
TZOFFSETFROM:+0100
TZOFFSETTO:+0200
TZNAME:CEST
DTSTART:20240331T010000
END:DAYLIGHT
BEGIN:STANDARD
TZOFFSETFROM:+0200
TZOFFSETTO:+0100
TZNAME:CET
DTSTART:20241027T010000
END:STANDARD
END:VTIMEZONE
BEGIN:VEVENT
DTSTART;TZID=Europe/Copenhagen:20231009T090000
DTEND;TZID=Europe/Copenhagen:20231009T143000
DTSTAMP:20260423T200346
CREATED:20230925T103531Z
LAST-MODIFIED:20230925T103531Z
UID:10000023-1696842000-1696861800@dmkskoler.dk
SUMMARY:Online-kursus: Lær at lave video med telefonen
DESCRIPTION:Flertallet foretrækker video\, når de skal lære noget online. Og video får flere visninger end alt andet ­online. YouTube\, der er en af verdens største søgemaskiner\, er kun video – og en video på LinkedIn får 1.200 pct. flere visninger end tekst- og foto-opslag. \nVideo har for længst vundet indpas som supplerende tilbud til musikskoleelever. Fordelene er\, at eleverne får adgang til undervisning og repetition på internettet 24/7\, og samtidig kan video bidrage til synlighed af musikskolen. Derudover kan du bruge video til f.eks. produktion af reklame- og musikvideoer. Kurset er derfor relevant for både undervisere\, kommunikationsmedarbejdere og ledere. \nAlt\, du behøver for at deltage\, er din android eller iPhone og en app\, du kan bruge gratis\, så længe du vil. Vi benytter app’en KineMaster på kurset. \nVi benytter app’en KineMaster på kurset. \nHvad får du ud af at deltage på kurset:\n● Viden om professionel videoproduktion med telefoner og tablets \n● Analytiske greb til udarbejdelse af video \n● Praktiske værktøjer til produktion af video \n● Inspiration til brug af telefonen som kamera\, videoredigering og video/fotoarkiv \nUnderviser: Cand.mag.\, journalist og Mobilvideospecialist\, Thomas Dahl Nordlund \nLæs mere HER
URL:https://dmkskoler.dk/events/online-kursus-laer-at-lave-video-med-telefonen/
LOCATION:Online
CATEGORIES:Kursus
ATTACH;FMTTYPE=image/jpeg:https://dmkskoler.dk/wp-content/uploads/2023/04/videoTLF.jpg
END:VEVENT
END:VCALENDAR