BEGIN:VCALENDAR
VERSION:2.0
PRODID:-//Danske Musik- og Kulturskoler - ECPv6.15.20//NONSGML v1.0//EN
CALSCALE:GREGORIAN
METHOD:PUBLISH
X-ORIGINAL-URL:https://dmkskoler.dk
X-WR-CALDESC:Begivenheder for Danske Musik- og Kulturskoler
REFRESH-INTERVAL;VALUE=DURATION:PT1H
X-Robots-Tag:noindex
X-PUBLISHED-TTL:PT1H
BEGIN:VTIMEZONE
TZID:Europe/Copenhagen
BEGIN:DAYLIGHT
TZOFFSETFROM:+0100
TZOFFSETTO:+0200
TZNAME:CEST
DTSTART:20230326T010000
END:DAYLIGHT
BEGIN:STANDARD
TZOFFSETFROM:+0200
TZOFFSETTO:+0100
TZNAME:CET
DTSTART:20231029T010000
END:STANDARD
BEGIN:DAYLIGHT
TZOFFSETFROM:+0100
TZOFFSETTO:+0200
TZNAME:CEST
DTSTART:20240331T010000
END:DAYLIGHT
BEGIN:STANDARD
TZOFFSETFROM:+0200
TZOFFSETTO:+0100
TZNAME:CET
DTSTART:20241027T010000
END:STANDARD
BEGIN:DAYLIGHT
TZOFFSETFROM:+0100
TZOFFSETTO:+0200
TZNAME:CEST
DTSTART:20250330T010000
END:DAYLIGHT
BEGIN:STANDARD
TZOFFSETFROM:+0200
TZOFFSETTO:+0100
TZNAME:CET
DTSTART:20251026T010000
END:STANDARD
END:VTIMEZONE
BEGIN:VEVENT
DTSTART;TZID=Europe/Copenhagen:20241119T090000
DTEND;TZID=Europe/Copenhagen:20241120T120000
DTSTAMP:20260421T212432
CREATED:20240516T115519Z
LAST-MODIFIED:20241112T204325Z
UID:10000034-1732006800-1732104000@dmkskoler.dk
SUMMARY:DMK Kulturkonference 2024
DESCRIPTION:TILMELDING\nPROGRAM\nKonferencen afvikles under overskriften:\nKunstnerisk intelligens i en verden med kunstig intelligens\nGennem oplæg\, cases og debat giver konferencen inspirerende perspektiver på og veje til børn og unges kunstneriske udfoldelse og læring. Veje\, der forholder sig til det væld af muligheder\, og udfordringer\, som de digitale medier og kunstig intelligens skaber. \nDMK Kulturkonference zoomer ind på\, hvad teknologierne gør for os og ved os. Hvad de betyder for børn og unges kunstneriske udfoldelses- og deltagelsesmuligheder. Hvad det betyder for arbejdet med både bredde og talent i kommunerne. Og hvad udviklingen stiller af krav til arbejdet med at skabe arenaer for kunstnerisk læring\, fællesskab og udfoldelse. \nSæt kryds i kalenderen og tag dine kollegaer\, lokalpolitikere og forvaltning med\nDMK håber\, at mange af landets musik- og kulturskoler og samarbejdspartnere igen i år vil prioritere at deltage i konferencen og bidrage til videndelingen og det faglige fællesskab. Vi vil samtidig opfordre til at benytte konferencedagene til at invitere samarbejdspartnere\, lokalpolitikere og forvaltning med og dermed bruge dagen som en anledning til at styrke samarbejde og dialog. \nGeneralforsamling 2024\nDMKs generalforsamling 2024 finder sted på førstedagen tirsdag 19. november kl. 16.15 – 18.45 på Nyborg Strand Hotel i umiddelbar forlængelse af konferencedagen. \nMålgruppe \nKonferencen henvender sig bredt til aktører\, der beskæftiger sig med børn og unges kompetencer\, dannelse og deltagelse i kunst og kultur. Mere specifikt henvender konferencen sig til aktører i relation til musik- og kulturskolernes kerneopgave: \n\nLedere og medarbejdere i musik- og kulturskolerne\nUndervisere i musik- og kulturskolerne i DK og i Norden\nBrugerrepræsentanter\nForskere\nKulturforvaltere\nPolitikere kommunalpolitisk og landspolitisk\nMedarbejdere i folkeskolen i relation til åben skole samarbejde2024\n\n\n\n\n\nKontakt \nHar du praktiske spørgsmål i forbindelse med konferencen\, kan du skrive til Tine Klitgaard på tk@dmkskoler.dk \nSpørgsmål til program eller andet fagligt kan ske til Lotte Trangbæk på LT@dmkskoler.dk \nAdresse på konferencested  \nNyborg Strand Hotel & Konference\, Østerøvej 2\, 5800 Nyborg \nDeltagerpris \n\nDMK-medlemmer: 2.900 kr. per person\nIkke-DMK-medlemmer: 3.200 kr. per person\n\nPrisen dækker deltagelse i konferencen. Hotel er IKKE inkluderet i deltagergebyret. Hotel bookes og betales separat. \nTilmeldingsfrist \nFrist for tilmelding til konferencen er 17. august 2024. \nHotel \nDet er muligt at tilkøbe hotel\, hvis der er behov for det. DMK har forhåndsreserveret et antal hotelværelser på Nyborg Strand Hotel\, der kan bookes frem til 29. oktober 2024 efter først-til-mølle via DETTE LINK
URL:https://dmkskoler.dk/events/dmk-kulturkonference-2024/
LOCATION:Nyborg Strand Hotel\, Østerøvej 2\, Nyborg\, 5800\, Danmark
CATEGORIES:Kulturkonference
END:VEVENT
END:VCALENDAR