BEGIN:VCALENDAR
VERSION:2.0
PRODID:-//Danske Musik- og Kulturskoler - ECPv6.15.20//NONSGML v1.0//EN
CALSCALE:GREGORIAN
METHOD:PUBLISH
X-ORIGINAL-URL:https://dmkskoler.dk
X-WR-CALDESC:Begivenheder for Danske Musik- og Kulturskoler
REFRESH-INTERVAL;VALUE=DURATION:PT1H
X-Robots-Tag:noindex
X-PUBLISHED-TTL:PT1H
BEGIN:VTIMEZONE
TZID:Europe/Copenhagen
BEGIN:DAYLIGHT
TZOFFSETFROM:+0100
TZOFFSETTO:+0200
TZNAME:CEST
DTSTART:20220327T010000
END:DAYLIGHT
BEGIN:STANDARD
TZOFFSETFROM:+0200
TZOFFSETTO:+0100
TZNAME:CET
DTSTART:20221030T010000
END:STANDARD
BEGIN:DAYLIGHT
TZOFFSETFROM:+0100
TZOFFSETTO:+0200
TZNAME:CEST
DTSTART:20230326T010000
END:DAYLIGHT
BEGIN:STANDARD
TZOFFSETFROM:+0200
TZOFFSETTO:+0100
TZNAME:CET
DTSTART:20231029T010000
END:STANDARD
BEGIN:DAYLIGHT
TZOFFSETFROM:+0100
TZOFFSETTO:+0200
TZNAME:CEST
DTSTART:20240331T010000
END:DAYLIGHT
BEGIN:STANDARD
TZOFFSETFROM:+0200
TZOFFSETTO:+0100
TZNAME:CET
DTSTART:20241027T010000
END:STANDARD
END:VTIMEZONE
BEGIN:VEVENT
DTSTART;VALUE=DATE:20231122
DTEND;VALUE=DATE:20231124
DTSTAMP:20260422T224918
CREATED:20221208T104148Z
LAST-MODIFIED:20231101T132258Z
UID:10000013-1700611200-1700783999@dmkskoler.dk
SUMMARY:Landskonference 2023
DESCRIPTION:Hvert år i november måned afholder DMK landskonference over to dage.\nNæste gang bliver 22. og 23. november 2023 på Hotel Nyborg Strand. \nLÆS MERE HER \n 
URL:https://dmkskoler.dk/events/landskonference-2023/
LOCATION:Nyborg Strand Hotel\, Østerøvej 2\, Nyborg\, 5800\, Danmark
CATEGORIES:Kulturkonference
ATTACH;FMTTYPE=image/jpeg:https://dmkskoler.dk/wp-content/uploads/2022/12/dmk2023.jpg
END:VEVENT
END:VCALENDAR